BEGIN:VCALENDAR
VERSION:2.0
PRODID:-//dresden55plus.de - ECPv6.15.12.2//NONSGML v1.0//EN
CALSCALE:GREGORIAN
METHOD:PUBLISH
X-ORIGINAL-URL:https://dresden55plus.de
X-WR-CALDESC:Veranstaltungen für dresden55plus.de
REFRESH-INTERVAL;VALUE=DURATION:PT1H
X-Robots-Tag:noindex
X-PUBLISHED-TTL:PT1H
BEGIN:VTIMEZONE
TZID:Europe/Berlin
BEGIN:DAYLIGHT
TZOFFSETFROM:+0100
TZOFFSETTO:+0200
TZNAME:CEST
DTSTART:20250330T010000
END:DAYLIGHT
BEGIN:STANDARD
TZOFFSETFROM:+0200
TZOFFSETTO:+0100
TZNAME:CET
DTSTART:20251026T010000
END:STANDARD
BEGIN:DAYLIGHT
TZOFFSETFROM:+0100
TZOFFSETTO:+0200
TZNAME:CEST
DTSTART:20260329T010000
END:DAYLIGHT
BEGIN:STANDARD
TZOFFSETFROM:+0200
TZOFFSETTO:+0100
TZNAME:CET
DTSTART:20261025T010000
END:STANDARD
BEGIN:DAYLIGHT
TZOFFSETFROM:+0100
TZOFFSETTO:+0200
TZNAME:CEST
DTSTART:20270328T010000
END:DAYLIGHT
BEGIN:STANDARD
TZOFFSETFROM:+0200
TZOFFSETTO:+0100
TZNAME:CET
DTSTART:20271031T010000
END:STANDARD
END:VTIMEZONE
BEGIN:VEVENT
DTSTART;TZID=Europe/Berlin:20260506T094500
DTEND;TZID=Europe/Berlin:20260506T094500
DTSTAMP:20260421T151819
CREATED:20260410T100832Z
LAST-MODIFIED:20260410T100832Z
UID:10000219-1778060700-1778060700@dresden55plus.de
SUMMARY:Von und Für 55plus: Wohlfühlsport mit Sabine
DESCRIPTION:Runter vom Sofa\, rein in die Turnschuhe!\nSabine lädt alle ein\, die Lust haben\, aktiv zu bleiben. Mit leichten Übungen\, guter Laune und ganz ohne Leistungsdruck stärken wir Beweglichkeit\, Kraft und Gleichgewicht.
URL:https://dresden55plus.de/event/von-und-fuer-55plus-wohlfuehlsport-mit-sabine/
LOCATION:Freizeit- und Bürgertreff „Marie\nBreitenauer Str. 17
CATEGORIES:ava
END:VEVENT
BEGIN:VEVENT
DTSTART;TZID=Europe/Berlin:20260513T094500
DTEND;TZID=Europe/Berlin:20260513T094500
DTSTAMP:20260421T151819
CREATED:20260410T100847Z
LAST-MODIFIED:20260410T100847Z
UID:10000229-1778665500-1778665500@dresden55plus.de
SUMMARY:Von und Für 55plus: Wohlfühlsport mit Sabine
DESCRIPTION:Runter vom Sofa\, rein in die Turnschuhe!\nSabine lädt alle ein\, die Lust haben\, aktiv zu bleiben. Mit leichten Übungen\, guter Laune und ganz ohne Leistungsdruck stärken wir Beweglichkeit\, Kraft und Gleichgewicht.
URL:https://dresden55plus.de/event/von-und-fuer-55plus-wohlfuehlsport-mit-sabine-2/
LOCATION:Freizeit- und Bürgertreff „Marie\nBreitenauer Str. 17
CATEGORIES:ava
END:VEVENT
BEGIN:VEVENT
DTSTART;TZID=Europe/Berlin:20260520T094500
DTEND;TZID=Europe/Berlin:20260520T094500
DTSTAMP:20260421T151819
CREATED:20260410T100902Z
LAST-MODIFIED:20260410T100902Z
UID:10000233-1779270300-1779270300@dresden55plus.de
SUMMARY:Von und Für 55plus: Wohlfühlsport mit Sabine
DESCRIPTION:Runter vom Sofa\, rein in die Turnschuhe!\nSabine lädt alle ein\, die Lust haben\, aktiv zu bleiben. Mit leichten Übungen\, guter Laune und ganz ohne Leistungsdruck stärken wir Beweglichkeit\, Kraft und Gleichgewicht.
URL:https://dresden55plus.de/event/von-und-fuer-55plus-wohlfuehlsport-mit-sabine-3/
LOCATION:Freizeit- und Bürgertreff „Marie\nBreitenauer Str. 17
CATEGORIES:ava
END:VEVENT
BEGIN:VEVENT
DTSTART;TZID=Europe/Berlin:20260527T094500
DTEND;TZID=Europe/Berlin:20260527T094500
DTSTAMP:20260421T151819
CREATED:20260410T100917Z
LAST-MODIFIED:20260410T100917Z
UID:10000239-1779875100-1779875100@dresden55plus.de
SUMMARY:Von und Für 55plus: Wohlfühlsport mit Sabine
DESCRIPTION:Runter vom Sofa\, rein in die Turnschuhe!\nSabine lädt alle ein\, die Lust haben\, aktiv zu bleiben. Mit leichten Übungen\, guter Laune und ganz ohne Leistungsdruck stärken wir Beweglichkeit\, Kraft und Gleichgewicht.
URL:https://dresden55plus.de/event/von-und-fuer-55plus-wohlfuehlsport-mit-sabine-4/
LOCATION:Freizeit- und Bürgertreff „Marie\nBreitenauer Str. 17
CATEGORIES:ava
END:VEVENT
END:VCALENDAR